BEGIN:VCALENDAR
VERSION:2.0
PRODID:-//МБУК МКЦ - ECPv4.6.12//NONSGML v1.0//EN
CALSCALE:GREGORIAN
METHOD:PUBLISH
X-WR-CALNAME:МБУК МКЦ
X-ORIGINAL-URL:https://zmkc.ru
X-WR-CALDESC:Events for МБУК МКЦ
BEGIN:VEVENT
DTSTART;VALUE=DATE:20221129
DTEND;VALUE=DATE:20221213
DTSTAMP:20260425T215056
CREATED:20221018T073719Z
LAST-MODIFIED:20221018T073719Z
UID:6989-1669680000-1670889599@zmkc.ru
SUMMARY:Выставка рисунков «Белая берёза» кружка ДПТ «Радуга жизни».
DESCRIPTION:
URL:https://zmkc.ru/event/vyistavka-risunkov-belaya-beryoza-kruzhka-dpt-raduga-zhizni/
LOCATION:Вокзальная 16\, Жигулевск
END:VEVENT
END:VCALENDAR