BEGIN:VCALENDAR
VERSION:2.0
PRODID:-//МБУК МКЦ - ECPv4.6.12//NONSGML v1.0//EN
CALSCALE:GREGORIAN
METHOD:PUBLISH
X-WR-CALNAME:МБУК МКЦ
X-ORIGINAL-URL:https://zmkc.ru
X-WR-CALDESC:Events for МБУК МКЦ
BEGIN:VEVENT
DTSTART;VALUE=DATE:20221119
DTEND;VALUE=DATE:20221128
DTSTAMP:20260425T202443
CREATED:20221018T071910Z
LAST-MODIFIED:20221018T074000Z
UID:6966-1668816000-1669593599@zmkc.ru
SUMMARY:Выставка рисунков «Букет для мамы» кружка ДПТ «Радуга жизни».
DESCRIPTION:
URL:https://zmkc.ru/event/vyistavka-risunkov-buket-dlya-mamyi-kruzhka-dpt-raduga-zhizni/
LOCATION:Вокзальная 16\, Жигулевск
END:VEVENT
BEGIN:VEVENT
DTSTART;VALUE=DATE:20221120
DTEND;VALUE=DATE:20221127
DTSTAMP:20260425T202443
CREATED:20221018T072136Z
LAST-MODIFIED:20221018T072136Z
UID:6970-1668902400-1669507199@zmkc.ru
SUMMARY:Акция «Открытка ко Дню мамы»
DESCRIPTION:
URL:https://zmkc.ru/event/aktsiya-otkryitka-ko-dnyu-mamyi/
LOCATION:ул.Промышленная\, д.7\, Жигулевск\, Самарская область\, Российская Федерация
END:VEVENT
BEGIN:VEVENT
DTSTART;TZID=UTC+4:20221126T110000
DTEND;TZID=UTC+4:20221126T130000
DTSTAMP:20260425T202443
CREATED:20221018T073553Z
LAST-MODIFIED:20221018T073553Z
UID:6985-1669460400-1669467600@zmkc.ru
SUMMARY:Показ концерта «Алексей Толстой. «Граф Калиостро» с музыкой Николая Мясковского»
DESCRIPTION:
URL:https://zmkc.ru/event/pokaz-kontserta-aleksey-tolstoy-graf-kaliostro-s-muzyikoy-nikolaya-myaskovskogo/
LOCATION:Вокзальная 16\, Жигулевск
END:VEVENT
BEGIN:VEVENT
DTSTART;TZID=UTC+4:20221126T140000
DTEND;TZID=UTC+4:20221126T160000
DTSTAMP:20260425T202443
CREATED:20221018T073638Z
LAST-MODIFIED:20221018T073638Z
UID:6987-1669471200-1669478400@zmkc.ru
SUMMARY:Показ концерта «Римский-Корсаков. «Шехеразада». Артём Варгафтик\, Госоркестр России имени Е. Ф. Светланова»
DESCRIPTION:
URL:https://zmkc.ru/event/pokaz-kontserta-rimskiy-korsakov-sheherazada-artyom-vargaftik-gosorkestr-rossii-imeni-e-f-svetlanova/
LOCATION:Вокзальная 16\, Жигулевск
END:VEVENT
END:VCALENDAR