BEGIN:VCALENDAR
VERSION:2.0
PRODID:-//МБУК МКЦ - ECPv4.6.12//NONSGML v1.0//EN
CALSCALE:GREGORIAN
METHOD:PUBLISH
X-WR-CALNAME:МБУК МКЦ
X-ORIGINAL-URL:https://zmkc.ru
X-WR-CALDESC:Events for МБУК МКЦ
BEGIN:VEVENT
DTSTART;VALUE=DATE:20200124
DTEND;VALUE=DATE:20200125
DTSTAMP:20260422T184554
CREATED:20200112T123413Z
LAST-MODIFIED:20200112T123413Z
UID:4173-1579824000-1579910399@zmkc.ru
SUMMARY:Зажигай!
DESCRIPTION:В преддверии Татьянина дня приглашаем всех 24 января в 17.00 на праздничную дискотеку «Зажигай\, Таня!» \n
URL:https://zmkc.ru/event/zazhigay/
LOCATION:Никитина 9\, Яблоневый Овраг\, Российская Федерация
END:VEVENT
END:VCALENDAR