BEGIN:VCALENDAR
VERSION:2.0
PRODID:-//МБУК МКЦ - ECPv4.6.12//NONSGML v1.0//EN
CALSCALE:GREGORIAN
METHOD:PUBLISH
X-WR-CALNAME:МБУК МКЦ
X-ORIGINAL-URL:https://zmkc.ru
X-WR-CALDESC:Events for МБУК МКЦ
BEGIN:VEVENT
DTSTART;VALUE=DATE:20200303
DTEND;VALUE=DATE:20200304
DTSTAMP:20260422T104730
CREATED:20200229T124321Z
LAST-MODIFIED:20200229T124321Z
UID:4393-1583193600-1583279999@zmkc.ru
SUMMARY:Защита "АПельсина"
DESCRIPTION:3 марта в 14.00 в Культурно-досуговом центре для детей и подростков пройдет спектакль театрального коллектива «АПельсин» — «До свидания\, Овраг»- в рамках защиты на звание «Образцовый театральный коллектив».      \n
URL:https://zmkc.ru/event/zashhita-apelsina/
LOCATION:Вокзальная 16\, Жигулевск
END:VEVENT
END:VCALENDAR