BEGIN:VCALENDAR
VERSION:2.0
PRODID:-//МБУК МКЦ - ECPv4.6.12//NONSGML v1.0//EN
CALSCALE:GREGORIAN
METHOD:PUBLISH
X-WR-CALNAME:МБУК МКЦ
X-ORIGINAL-URL:https://zmkc.ru
X-WR-CALDESC:Events for МБУК МКЦ
BEGIN:VEVENT
DTSTART;VALUE=DATE:20190506
DTEND;VALUE=DATE:20190513
DTSTAMP:20260425T024814
CREATED:20190418T054553Z
LAST-MODIFIED:20190527T022240Z
UID:2621-1557100800-1557705599@zmkc.ru
SUMMARY:Выставка поделок «Победа! Победа!»
DESCRIPTION:
URL:https://zmkc.ru/event/vyistavka-podelok-pobeda-pobeda-2/
LOCATION:Фрунзе 36\, Жигулевск\, Российская Федерация
END:VEVENT
END:VCALENDAR