BEGIN:VCALENDAR
VERSION:2.0
PRODID:-//МБУК МКЦ - ECPv4.6.12//NONSGML v1.0//EN
CALSCALE:GREGORIAN
METHOD:PUBLISH
X-WR-CALNAME:МБУК МКЦ
X-ORIGINAL-URL:https://zmkc.ru
X-WR-CALDESC:Events for МБУК МКЦ
BEGIN:VEVENT
DTSTART;TZID=UTC+0:20201203T080000
DTEND;TZID=UTC+0:20201211T170000
DTSTAMP:20260422T114755
CREATED:20201203T011856Z
LAST-MODIFIED:20201203T011856Z
UID:5518-1606982400-1607706000@zmkc.ru
SUMMARY:Выставка «Мамы»
DESCRIPTION:День матери – тот праздник\, о котором невозможно забыть в суете каждодневных забот. Его с нетерпением ждут и отмечают во многих странах. Посвящен этот праздничный день самой дорогой женщине\, подарившей жизнь каждому человеку.Практически во всех странах отмечают День матери\, история праздника насчитывает не одно столетие и для детей он настолько же важен\, как и для мам. \n В 2020 году День матери отмечался 29 ноября. В преддверии праздника Дом культуры «Луч» (микрорайон Александровское поле) провел конкурс фотографий «Мамы»\, на который были представлены работы по номинациям:  «В ожидании чуда»; «Семейное счастье»; «Мамины помощники»; «Мамы всякие нужны\, мамы всякие важны»; «Веселые путешественники».  \n2 декабря были подведены итоги конкурса\, а все работы приняли участие в одноименной выставке. \nДом культуры «Луч» приглашает всех желающих посмотреть на настоящее семейное счастье. \n
URL:https://zmkc.ru/event/vyistavka-mamyi/
LOCATION:Фрунзе 36\, Жигулевск\, Российская Федерация
ATTACH;FMTTYPE=image/jpeg:https://zmkc.ru/wp-content/uploads/2020/12/mamyi.jpg
END:VEVENT
END:VCALENDAR