BEGIN:VCALENDAR
VERSION:2.0
PRODID:-//МБУК МКЦ - ECPv4.6.12//NONSGML v1.0//EN
CALSCALE:GREGORIAN
METHOD:PUBLISH
X-WR-CALNAME:МБУК МКЦ
X-ORIGINAL-URL:https://zmkc.ru
X-WR-CALDESC:Events for МБУК МКЦ
BEGIN:VEVENT
DTSTART;TZID=UTC+4:20210529T110000
DTEND;TZID=UTC+4:20210529T120000
DTSTAMP:20260422T151507
CREATED:20210526T062342Z
LAST-MODIFIED:20210526T062342Z
UID:5981-1622286000-1622289600@zmkc.ru
SUMMARY:Выпускной ГЭР "Малышок"
DESCRIPTION:В Культурно-досуговом центре для детей и подростков работает группа эстетического развития «Малышок»\, подготавливающая детей к школе. Курс занятий в группе рассчитан на два года. Для тех ребят\, которые полностью завершили подготовительный курс творческий коллектив КДЦ подготовил праздничное мероприятие. \n
URL:https://zmkc.ru/event/vyipusknoy-ger-malyishok/
LOCATION:Вокзальная 16\, Жигулевск
ATTACH;FMTTYPE=image/jpeg:https://zmkc.ru/wp-content/uploads/2021/05/MnaBkWTd-V8.jpg
END:VEVENT
END:VCALENDAR