BEGIN:VCALENDAR
VERSION:2.0
PRODID:-//МБУК МКЦ - ECPv4.6.12//NONSGML v1.0//EN
CALSCALE:GREGORIAN
METHOD:PUBLISH
X-WR-CALNAME:МБУК МКЦ
X-ORIGINAL-URL:https://zmkc.ru
X-WR-CALDESC:Events for МБУК МКЦ
BEGIN:VEVENT
DTSTART;TZID=UTC+4:20220625T200000
DTEND;TZID=UTC+4:20220625T210000
DTSTAMP:20260422T155326
CREATED:20220524T105809Z
LAST-MODIFIED:20220524T105809Z
UID:6658-1656187200-1656190800@zmkc.ru
SUMMARY:Вручение аттестатов «Выпускной- 2022»
DESCRIPTION:
URL:https://zmkc.ru/event/vruchenie-attestatov-vyipusknoy-2022/
LOCATION:Никитина 9\, Яблоневый Овраг
END:VEVENT
END:VCALENDAR