BEGIN:VCALENDAR
VERSION:2.0
PRODID:-//МБУК МКЦ - ECPv4.6.12//NONSGML v1.0//EN
CALSCALE:GREGORIAN
METHOD:PUBLISH
X-WR-CALNAME:МБУК МКЦ
X-ORIGINAL-URL:https://zmkc.ru
X-WR-CALDESC:Events for МБУК МКЦ
BEGIN:VEVENT
DTSTART;TZID=UTC+4:20210108T130000
DTEND;TZID=UTC+4:20210108T143000
DTSTAMP:20260422T134150
CREATED:20201230T025501Z
LAST-MODIFIED:20201230T025501Z
UID:5601-1610110800-1610116200@zmkc.ru
SUMMARY:Видеотрансляция концерта «Краски Востока»
DESCRIPTION:Виртуальный концертный зал г.о.Жигулёвск приглашает на концерт классической музыки. \nВ ПРОГРАММЕ: \nАкадемический симфонический оркестр Московской филармонии. \nДирижёр – Юрий Симонов. \nГлинка Восточные танцы из IV акта оперы «Руслан и Людмила»; \nА. Рубинштейн Мужской танец из оперы «Демон»; \nБородин «В Средней Азии» — музыкальная картина; \nБалакирев «Исламей» — восточная фантазия (оркестровка С. Ляпунова); \nП. И. Чайковский Арабский танец из музыки балета «Щелкунчик»; \nМусоргский Пляска персидок из оперы «Хованщина»; \nА. Хачатурян Лезгинка из музыки балета «Гаянэ»; \nК. Караев Вальс из музыки балета «Семь красавиц». \n
URL:https://zmkc.ru/event/videotranslyatsiya-kontserta-kraski-vostoka/
LOCATION:Вокзальная 16\, Жигулевск
ATTACH;FMTTYPE=image/jpeg:https://zmkc.ru/wp-content/uploads/2020/12/20160629.jpg
END:VEVENT
END:VCALENDAR