BEGIN:VCALENDAR
VERSION:2.0
PRODID:-//МБУК МКЦ - ECPv4.6.12//NONSGML v1.0//EN
CALSCALE:GREGORIAN
METHOD:PUBLISH
X-WR-CALNAME:МБУК МКЦ
X-ORIGINAL-URL:https://zmkc.ru
X-WR-CALDESC:Events for МБУК МКЦ
BEGIN:VEVENT
DTSTART;TZID=UTC+4:20210417T130000
DTEND;TZID=UTC+4:20210417T163000
DTSTAMP:20260422T072906
CREATED:20210413T101915Z
LAST-MODIFIED:20210413T101915Z
UID:5877-1618664400-1618677000@zmkc.ru
SUMMARY:Видеопоказ спекталя «Мушкетёры»
DESCRIPTION:Виртуальный концертный зал г. о.Жигулёвск приглашает на трансляцию спектакля Российского академического молодежного театра по книге А.Дюма. \nЛегендарная история четырех друзей\, рассказанная Александром Дюма\, для многих поколений стала «прививкой» чести\, верности и мужества. Мастер сценического движения и боя Андрей Рыклин создал современный пластический спектакль\, сохраняя авантюрную атмосферу романа. Молодые РАМТовские актеры дерзко и увлеченно фехтуют и флиртуют: д’Артаньян\, Атос\, Портос и Арамис — один за всех и все за одного! \nЗавораживающая\, незабываемая музыка… Невероятные танцы\, переплетающие всё действие… Истории\, рассказанные танцами… \n
URL:https://zmkc.ru/event/videopokaz-spektalya-mushketyoryi/
LOCATION:Вокзальная 16\, Жигулевск
ATTACH;FMTTYPE=image/jpeg:https://zmkc.ru/wp-content/uploads/2021/04/image.jpg
END:VEVENT
END:VCALENDAR