BEGIN:VCALENDAR
VERSION:2.0
PRODID:-//МБУК МКЦ - ECPv4.6.12//NONSGML v1.0//EN
CALSCALE:GREGORIAN
METHOD:PUBLISH
X-WR-CALNAME:МБУК МКЦ
X-ORIGINAL-URL:https://zmkc.ru
X-WR-CALDESC:Events for МБУК МКЦ
BEGIN:VEVENT
DTSTART;TZID=UTC+4:20250524T150000
DTEND;TZID=UTC+4:20250524T163000
DTSTAMP:20260420T143047
CREATED:20250423T132922Z
LAST-MODIFIED:20250423T132922Z
UID:9111-1748098800-1748104200@zmkc.ru
SUMMARY:Видеопоказ концерта. 80 лет коллективу Государственный академический Сибирский русский народный хор.
DESCRIPTION:Виртуальный концертный зал приглашает \n
URL:https://zmkc.ru/event/videopokaz-kontserta-80-let-kollektivu-gosudarstvennyiy-akademicheskiy-sibirskiy-russkiy-narodnyiy-hor/
LOCATION:Вокзальная 16\, Жигулевск
ATTACH;FMTTYPE=image/jpeg:https://zmkc.ru/wp-content/uploads/2025/04/6_900h600.jpg
END:VEVENT
END:VCALENDAR