BEGIN:VCALENDAR
VERSION:2.0
PRODID:-//МБУК МКЦ - ECPv4.6.12//NONSGML v1.0//EN
CALSCALE:GREGORIAN
METHOD:PUBLISH
X-WR-CALNAME:МБУК МКЦ
X-ORIGINAL-URL:https://zmkc.ru
X-WR-CALDESC:Events for МБУК МКЦ
BEGIN:VEVENT
DTSTART;VALUE=DATE:20190309
DTEND;VALUE=DATE:20190310
DTSTAMP:20260425T221642
CREATED:20190304T035948Z
LAST-MODIFIED:20190304T035948Z
UID:2379-1552089600-1552175999@zmkc.ru
SUMMARY:"Веселая Масленица!"
DESCRIPTION: \n
URL:https://zmkc.ru/event/veselaya-maslenitsa/
LOCATION:Никитина 9\, Яблоневый Овраг
END:VEVENT
END:VCALENDAR