BEGIN:VCALENDAR
VERSION:2.0
PRODID:-//МБУК МКЦ - ECPv4.6.12//NONSGML v1.0//EN
CALSCALE:GREGORIAN
METHOD:PUBLISH
X-WR-CALNAME:МБУК МКЦ
X-ORIGINAL-URL:https://zmkc.ru
X-WR-CALDESC:Events for МБУК МКЦ
BEGIN:VEVENT
DTSTART;TZID=UTC+4:20221223T130000
DTEND;TZID=UTC+4:20221223T140000
DTSTAMP:20260423T064902
CREATED:20221129T133339Z
LAST-MODIFIED:20221129T133702Z
UID:7050-1671800400-1671804000@zmkc.ru
SUMMARY:В НОВЫЙ ГОД!
DESCRIPTION:Для одаренных детей микрорайона Яблоневый Овраг пройдет ежегодная Ёлка от администрации г.о.Жигулёвск \n
URL:https://zmkc.ru/event/v-novyiy-god-5/
LOCATION:Никитина 9\, Яблоневый Овраг\, Российская Федерация
ATTACH;FMTTYPE=image/jpeg:https://zmkc.ru/wp-content/uploads/2022/11/V-novyiy-God.jpg
END:VEVENT
END:VCALENDAR