BEGIN:VCALENDAR
VERSION:2.0
PRODID:-//МБУК МКЦ - ECPv4.6.12//NONSGML v1.0//EN
CALSCALE:GREGORIAN
METHOD:PUBLISH
X-WR-CALNAME:МБУК МКЦ
X-ORIGINAL-URL:https://zmkc.ru
X-WR-CALDESC:Events for МБУК МКЦ
BEGIN:VEVENT
DTSTART;TZID=UTC+4:20221227T103000
DTEND;TZID=UTC+4:20221227T113000
DTSTAMP:20260424T050040
CREATED:20221130T052934Z
LAST-MODIFIED:20221130T052934Z
UID:7065-1672137000-1672140600@zmkc.ru
SUMMARY:В НОВЫЙ ГОД!
DESCRIPTION:Творческий коллектив Культурно-досугового центра для детей и подростков ежегодно готовит для школьников Жигулёвска интерактивный новогодний спектакль. Героями представления чаще всего становятся известные и любимые с детства персонажи русских народных сказок: Баба — Яга\, Кикимора\, Кащей Бессмертный — ведь именно народные сказки закладывают в детей основы духовной нравственности и морали. Они учат дружбе\, взаимовыручке\, сочувствию\, доверию и любви.  В течение спектакля герои вовлекают зрителей в действие\, предлагая вместе потанцевать\, помочь пройти испытания и просто весело поиграть.  \nМероприятие для целевых групп! \n
URL:https://zmkc.ru/event/v-novyiy-god-10/
LOCATION:Фрунзе 36\, Жигулевск\, Российская Федерация
ATTACH;FMTTYPE=image/jpeg:https://zmkc.ru/wp-content/uploads/2022/11/V-novyiy-God.jpg
END:VEVENT
END:VCALENDAR