BEGIN:VCALENDAR
VERSION:2.0
PRODID:-//МБУК МКЦ - ECPv4.6.12//NONSGML v1.0//EN
CALSCALE:GREGORIAN
METHOD:PUBLISH
X-WR-CALNAME:МБУК МКЦ
X-ORIGINAL-URL:https://zmkc.ru
X-WR-CALDESC:Events for МБУК МКЦ
BEGIN:VEVENT
DTSTART;VALUE=DATE:20201006
DTEND;VALUE=DATE:20201017
DTSTAMP:20260422T173705
CREATED:20201006T061256Z
LAST-MODIFIED:20201006T061256Z
UID:5198-1601942400-1602892799@zmkc.ru
SUMMARY:«В мире животных»
DESCRIPTION:Дом культуры «Луч» приглашает воспитанников детских садов и учащихся школ города принять участие в конкурсе. \nЦели и задачи конкурса: \n1. Формирование заинтересованного\, бережного отношения к животным; \n2. Развитие творческих способностей\, воображения; \n3. Вовлечение детей в культурно — досуговую деятельность; \n4. Объединение детей и взрослых для совместной деятельности. \nРаботы участников оценивает жюри конкурса по трем возрастным категориям: \n1. Дошкольный возраст. \n2. Младший школьный возраст. \n3. Старший школьный возраст. \nЖюри конкурса может присуждать не все места. Решение жюри пересмотру не подлежит. \nПодробные условия участия  в Положении по конкурсу. \n
URL:https://zmkc.ru/event/v-mire-zhivotnyih/
LOCATION:Фрунзе 36\, Жигулевск\, Российская Федерация
ATTACH;FMTTYPE=image/jpeg:https://zmkc.ru/wp-content/uploads/2020/10/01599218d98809d46c154a16071ba07b.jpg
END:VEVENT
END:VCALENDAR