BEGIN:VCALENDAR
VERSION:2.0
PRODID:-//МБУК МКЦ - ECPv4.6.12//NONSGML v1.0//EN
CALSCALE:GREGORIAN
METHOD:PUBLISH
X-WR-CALNAME:МБУК МКЦ
X-ORIGINAL-URL:https://zmkc.ru
X-WR-CALDESC:Events for МБУК МКЦ
BEGIN:VEVENT
DTSTART;TZID=UTC+4:20220214T090000
DTEND;TZID=UTC+4:20220214T170000
DTSTAMP:20260422T104802
CREATED:20220128T081606Z
LAST-MODIFIED:20220128T081606Z
UID:6411-1644829200-1644858000@zmkc.ru
SUMMARY:Тысяча добрых страниц
DESCRIPTION:В 2022 году ежегодный конкурс чтецов проводится в новом формате. Культурно-досуговый центр для детей и подростков решил расширить географию произведений и предлагает участникам прочитать произведения зарубежных авторов и зарубежного народного фольклора \nПроизведение обязательно должно соответствовать возрасту исполнителя.\nК участию приглашаются дети и подростки в возрасте от 5 до 18 лет. \nЗаявки принимаются до 9 февраля \nВ связи с ограничительными мерами время выступлений будет сообщено руководителю 11 февраля 2021 года.  Также порядок выступлений  будет опубликован на  сайте МБУК «МКЦ» 11 февраля! \nПодробные условия участия и образец заявки в Положении. \nПоложение Конкурса чтецов 2022  \n
URL:https://zmkc.ru/event/tyisyacha-dobryih-stranits/
LOCATION:Вокзальная 16\, Жигулевск
ATTACH;FMTTYPE=image/jpeg:https://zmkc.ru/wp-content/uploads/2022/01/oP0-uwXuMP0.jpg
END:VEVENT
END:VCALENDAR