BEGIN:VCALENDAR
VERSION:2.0
PRODID:-//МБУК МКЦ - ECPv4.6.12//NONSGML v1.0//EN
CALSCALE:GREGORIAN
METHOD:PUBLISH
X-WR-CALNAME:МБУК МКЦ
X-ORIGINAL-URL:https://zmkc.ru
X-WR-CALDESC:Events for МБУК МКЦ
BEGIN:VEVENT
DTSTART;TZID=UTC+4:20210518T180000
DTEND;TZID=UTC+4:20210518T200000
DTSTAMP:20260422T115041
CREATED:20210419T033146Z
LAST-MODIFIED:20210419T033146Z
UID:5890-1621360800-1621368000@zmkc.ru
SUMMARY:Трансляция спектакля «Оловянные кольца».
DESCRIPTION:Виртуальный концертный зал г.о.Жигулевск приглашает на трансляцию спектакля Московского театра юного зрителя «Оловянные кольца». \nМузыкальный спектакль о необычайных событиях в сказочном королевстве Фазании и Павлинии. О том\, как преодолев жадность и глупость заморских принцев\, похищения и угрозы злых пиратов\, прекрасная принцесса Алели и благородный садовник Зинзивер нашли свое счастье. Об необыкновенном чуде – чуде любви и верности. «Оловянные кольца» — классический детский спектакль в лучших традициях русской сцены: красивый\, легкий\, с юмором. И делают его таким актеры\, играющие ярко\, весело\, с тонкой иронией. \n
URL:https://zmkc.ru/event/translyatsiya-spektaklya-olovyannyie-koltsa/
LOCATION:Вокзальная 16\, Жигулевск
ATTACH;FMTTYPE=image/jpeg:https://zmkc.ru/wp-content/uploads/2021/04/f9baeaab66774a82b546cb1e9c4f3fff.jpg
END:VEVENT
END:VCALENDAR