BEGIN:VCALENDAR
VERSION:2.0
PRODID:-//МБУК МКЦ - ECPv4.6.12//NONSGML v1.0//EN
CALSCALE:GREGORIAN
METHOD:PUBLISH
X-WR-CALNAME:МБУК МКЦ
X-ORIGINAL-URL:https://zmkc.ru
X-WR-CALDESC:Events for МБУК МКЦ
BEGIN:VEVENT
DTSTART;TZID=UTC+4:20210424T130000
DTEND;TZID=UTC+4:20210424T143000
DTSTAMP:20260422T072904
CREATED:20210413T103224Z
LAST-MODIFIED:20210413T103224Z
UID:5880-1619269200-1619274600@zmkc.ru
SUMMARY:Трансляция спектакля «Летучий корабль»
DESCRIPTION:Виртуальный концертный зал г.о.Жигулёвск приглашает на мюзикл для всей семьи. \n Театриум на Серпуховке приготовил для  юных зрителей  мюзикл по культовому мультфильму «Летучий корабль» с песнями Юрия Энтина и Максима Дунаевского. \nТереза Дурова создала на сцене мир\, наполненный чудесами и волшебством\, красотой и юмором. Здесь – знакомые с детства герои: капризная царская дочка Забава\, влюблённый в неё трубочист\, Бабки-Ёжки с разухабистыми частушками\, жадный купец Полкан и Водяной\, который виртуозно играет на саксофоне. \n
URL:https://zmkc.ru/event/translyatsiya-spektaklya-letuchiy-korabl/
LOCATION:Вокзальная 16\, Жигулевск
ATTACH;FMTTYPE=image/jpeg:https://zmkc.ru/wp-content/uploads/2021/04/letuchiy_5_007.jpg
END:VEVENT
END:VCALENDAR