BEGIN:VCALENDAR
VERSION:2.0
PRODID:-//МБУК МКЦ - ECPv4.6.12//NONSGML v1.0//EN
CALSCALE:GREGORIAN
METHOD:PUBLISH
X-WR-CALNAME:МБУК МКЦ
X-ORIGINAL-URL:https://zmkc.ru
X-WR-CALDESC:Events for МБУК МКЦ
BEGIN:VEVENT
DTSTART;TZID=UTC+4:20201129T130000
DTEND;TZID=UTC+4:20201129T150000
DTSTAMP:20260422T121053
CREATED:20201123T120503Z
LAST-MODIFIED:20201123T120503Z
UID:5443-1606654800-1606662000@zmkc.ru
SUMMARY:Трансляция концерта «Шедевры для всех!»
DESCRIPTION:Виртуальный концертный зал г.о.Жигулевск приглашает всех поклонников классической музыки на концерт Академического симфонического оркестра Московской филармонии. \nДирижёр – Димитрис Ботинис. \nСергей Редькин (фортепиано)\, лауреат XV Международного конкурса имени П. И. Чайковского. \nВ ПРОГРАММЕ: \nРахманинов Концерт № 3 для фортепиано с оркестром \n«Симфонические танцы» \nСергей Рахманинов – это яркая и сильная фигура в отечественной музыкальной культуре. Он был блестящим пианистом\, не имеющим себе равных среди современников. Кроме того многие поклонники знали его как выдающегося дирижера и\, конечно же\, композитора. Не случайно один из музыкальных критиков назвал маэстро «божеством в трех лицах». Его исполнительский дар был поистине великолепным\, и именно фортепианной музыке Рахманинов уделял огромное значение в своем творчестве. \n
URL:https://zmkc.ru/event/translyatsiya-kontserta-shedevryi-dlya-vseh/
LOCATION:Вокзальная 16\, Жигулевск
ATTACH;FMTTYPE=image/jpeg:https://zmkc.ru/wp-content/uploads/2020/11/3287760.jpg
END:VEVENT
END:VCALENDAR