BEGIN:VCALENDAR
VERSION:2.0
PRODID:-//МБУК МКЦ - ECPv4.6.12//NONSGML v1.0//EN
CALSCALE:GREGORIAN
METHOD:PUBLISH
X-WR-CALNAME:МБУК МКЦ
X-ORIGINAL-URL:https://zmkc.ru
X-WR-CALDESC:Events for МБУК МКЦ
BEGIN:VEVENT
DTSTART;TZID=UTC+4:20201122T130000
DTEND;TZID=UTC+4:20201122T150000
DTSTAMP:20260422T121241
CREATED:20201113T030433Z
LAST-MODIFIED:20201113T030434Z
UID:5383-1606050000-1606057200@zmkc.ru
SUMMARY:Трансляция концерта Государственного театра танца «Казаки России»
DESCRIPTION:Виртуальный концертный зал приглашает на концерт одного из лучших танцевальных коллективов России. \nГосударственный театр танца «Казаки России» – один из ведущих танцевальных коллективов нашей страны.  Программы театра танцев можно по праву назвать «энциклопедией казачьей жизни»: выраженные в эффектной сценической форме\, в нарядных костюмах\, задорных песнях и неудержимых плясках\, они представляют фольклорное наследие различных казачьих регионов страны — от Дона и Черного моря до Сибири и Дальнего Востока. \nНаряду с традиционными казачьими танцами\, такими как «Хоперцы»\, «Казачий пляс»\, «Нога в ногу»\, «Чернобровый» и др.\, артисты театра блестяще исполняют «Липецкую матаню»\, «Гопак»\, «Улицу на улицу» и\, конечно же\, знаменитую «Калинку». \n«Казаки России» выступали в более чем 30 странах мира\, их задорные песни и неудержимые пляски заслужили восторженные отзывы публики и прессы. «Их шоу можно назвать одним словом — сногсшибательно…\, это потрясающе и необыкновенно зрелищно — фантастические певцы\, музыканты и танцоры»\, — так характеризовали их критики ведущего британского издания The Daily Telegraph. «Казаки России» являются единственным отечественным хореографическим ансамблем\, который принял участие в праздновании бриллиантового юбилея правления королевы Великобритании Елизаветы II. \n \n
URL:https://zmkc.ru/event/translyatsiya-kontserta-gosudarstvennogo-teatra-tantsa-kazaki-rossii/
LOCATION:Вокзальная 16\, Жигулевск
ATTACH;FMTTYPE=image/jpeg:https://zmkc.ru/wp-content/uploads/2020/11/694058.jpg
END:VEVENT
END:VCALENDAR