BEGIN:VCALENDAR
VERSION:2.0
PRODID:-//МБУК МКЦ - ECPv4.6.12//NONSGML v1.0//EN
CALSCALE:GREGORIAN
METHOD:PUBLISH
X-WR-CALNAME:МБУК МКЦ
X-ORIGINAL-URL:https://zmkc.ru
X-WR-CALDESC:Events for МБУК МКЦ
BEGIN:VEVENT
DTSTART;TZID=UTC+4:20210328T130000
DTEND;TZID=UTC+4:20210328T143000
DTSTAMP:20260422T102210
CREATED:20210315T105004Z
LAST-MODIFIED:20210315T105004Z
UID:5780-1616936400-1616941800@zmkc.ru
SUMMARY:Трансляция концерта «Барышни и крестьянки»
DESCRIPTION:Виртуальный концертный зал приглашает на концерт Национального академического оркестра народных инструментов России имени Н. П. Осипова. \nДирижёр – Евгений Волчков. \nСветлана Летуновская (художественное слово). \nДарья Зыкова (сопрано). \nДарья Рубцова (народный голос). \nВокальное трио «Реликт». \nВ ПРОГРАММЕ: \n«Барышни и крестьянки» Музыкально-литературная композиция по произведениям Л. Толстого\, А. Чехова\,Н. Некрасова\, А. Фета\, Ф. Тютчева\,Б. Пастернака\, С. Дрожжина. \nПрозвучат произведения Варламова\, Римского-Корсакова\, Аренского\, Лядова\, Рахманинова\, Андреева\, русские народные песни и старинные романсы. \n
URL:https://zmkc.ru/event/translyatsiya-kontserta-baryishni-i-krestyanki/
LOCATION:Вокзальная 16\, Жигулевск
ATTACH;FMTTYPE=image/jpeg:https://zmkc.ru/wp-content/uploads/2021/03/b76b6d19ca32f134f85e7573f1d7f2e7-large.jpg
END:VEVENT
END:VCALENDAR