BEGIN:VCALENDAR
VERSION:2.0
PRODID:-//МБУК МКЦ - ECPv4.6.12//NONSGML v1.0//EN
CALSCALE:GREGORIAN
METHOD:PUBLISH
X-WR-CALNAME:МБУК МКЦ
X-ORIGINAL-URL:https://zmkc.ru
X-WR-CALDESC:Events for МБУК МКЦ
BEGIN:VEVENT
DTSTART;TZID=UTC+4:20250611T160000
DTEND;TZID=UTC+4:20250611T163000
DTSTAMP:20260420T123849
CREATED:20250611T071726Z
LAST-MODIFIED:20250611T071726Z
UID:9155-1749657600-1749659400@zmkc.ru
SUMMARY:Торжественное вручение паспортов в рамках Общероссийской акции «Мы граждане России»
DESCRIPTION:
URL:https://zmkc.ru/event/torzhestvennoe-vruchenie-pasportov-v-ramkah-obshherossiyskoy-aktsii-myi-grazhdane-rossii/
LOCATION:Вокзальная 16\, Жигулевск
END:VEVENT
END:VCALENDAR