BEGIN:VCALENDAR
VERSION:2.0
PRODID:-//МБУК МКЦ - ECPv4.6.12//NONSGML v1.0//EN
CALSCALE:GREGORIAN
METHOD:PUBLISH
X-WR-CALNAME:МБУК МКЦ
X-ORIGINAL-URL:https://zmkc.ru
X-WR-CALDESC:Events for МБУК МКЦ
BEGIN:VEVENT
DTSTART;TZID=UTC+4:20251022T160000
DTEND;TZID=UTC+4:20251022T170000
DTSTAMP:20260419T132406
CREATED:20251010T074729Z
LAST-MODIFIED:20251010T074729Z
UID:9339-1761148800-1761152400@zmkc.ru
SUMMARY:Торжественное вручение паспортов
DESCRIPTION:Статус и гордость: первый взрослый документ.\nПолучение паспорта – важный момент в жизни каждого человека\, символизирующий переход во взрослую жизнь и наполненный особым смыслом гражданской ответственности. В рамках всероссийской акции «Мы – граждане России» 14-летним жителям Жигулёвска вручат их первый официальный документ в торжественной обстановке.\nПрограмма мероприятия:\n— Торжественная часть – поздравления от представителей администрации\, почётных гостей и активистов «Движения Первых»;\n— Вручение паспортов – под аплодисменты родных и друзей подростки получат свой главный документ;\n— Культурная программа – творческие номера и выступления местных коллективов.\nАкция направлена на укрепление гражданского самосознания молодёжи\, формирование уважения к истории и законодательству страны\, а также поощрение активной жизненной позиции подрастающего поколения. \n
URL:https://zmkc.ru/event/torzhestvennoe-vruchenie-pasportov-2/
LOCATION:Вокзальная 16\, Жигулевск
ATTACH;FMTTYPE=image/jpeg:https://zmkc.ru/wp-content/uploads/2025/10/2vXbiqpGn4FxxXUqrChotq1eBBy2gfPHpQsF81aGj_FUX5h5SzpBWGExDXofSEKd13Mk56IpUvOS6SNcCuMRt_7P.jpg
END:VEVENT
END:VCALENDAR