BEGIN:VCALENDAR
VERSION:2.0
PRODID:-//МБУК МКЦ - ECPv4.6.12//NONSGML v1.0//EN
CALSCALE:GREGORIAN
METHOD:PUBLISH
X-WR-CALNAME:МБУК МКЦ
X-ORIGINAL-URL:https://zmkc.ru
X-WR-CALDESC:Events for МБУК МКЦ
BEGIN:VEVENT
DTSTART;TZID=UTC+4:20250524T100000
DTEND;TZID=UTC+4:20250524T110000
DTSTAMP:20260420T163909
CREATED:20250423T132806Z
LAST-MODIFIED:20250423T132806Z
UID:9109-1748080800-1748084400@zmkc.ru
SUMMARY:Торжественная линейка\, посвященная Последнему звонку
DESCRIPTION:
URL:https://zmkc.ru/event/torzhestvennaya-lineyka-posvyashhennaya-poslednemu-zvonku/
LOCATION:Никитина 9\, Яблоневый Овраг
END:VEVENT
END:VCALENDAR