BEGIN:VCALENDAR
VERSION:2.0
PRODID:-//МБУК МКЦ - ECPv4.6.12//NONSGML v1.0//EN
CALSCALE:GREGORIAN
METHOD:PUBLISH
X-WR-CALNAME:МБУК МКЦ
X-ORIGINAL-URL:https://zmkc.ru
X-WR-CALDESC:Events for МБУК МКЦ
BEGIN:VEVENT
DTSTART;TZID=UTC+4:20240902T100000
DTEND;TZID=UTC+4:20240902T110000
DTSTAMP:20260422T181523
CREATED:20240831T062405Z
LAST-MODIFIED:20240831T062405Z
UID:8676-1725271200-1725274800@zmkc.ru
SUMMARY:Торжественная линейка\, посвященная Дню Знаний
DESCRIPTION:
URL:https://zmkc.ru/event/torzhestvennaya-lineyka-posvyashhennaya-dnyu-znaniy/
LOCATION:Жигулевск
END:VEVENT
END:VCALENDAR