BEGIN:VCALENDAR
VERSION:2.0
PRODID:-//МБУК МКЦ - ECPv4.6.12//NONSGML v1.0//EN
CALSCALE:GREGORIAN
METHOD:PUBLISH
X-WR-CALNAME:МБУК МКЦ
X-ORIGINAL-URL:https://zmkc.ru
X-WR-CALDESC:Events for МБУК МКЦ
BEGIN:VEVENT
DTSTART;TZID=UTC+4:20201031T130000
DTEND;TZID=UTC+4:20201031T143000
DTSTAMP:20260422T115956
CREATED:20201026T062022Z
LAST-MODIFIED:20201026T062022Z
UID:5249-1604149200-1604154600@zmkc.ru
SUMMARY:Телеспектакль «Кошкин дом»
DESCRIPTION:Спектакль по пьесе Самуила Маршака. Премьера состоялась в Центральном детском театре (ныне РАМТ) 26 декабря 1978 года. Пьеса Маршака «Кошкин дом» выросла из нескольких строчек детской фольклорной песенки «Тили-тили-тили-бом. Загорелся кошкин дом». Никто из бывших друзей не помог несчастной погорелице-кошке. Лишь бедные племянники-котята дали ей приют.  \nВ ролях: Татьяна Шатилова\, Юрий Лученко\, Анна Соловьева\, Николай Ферапонтов\, Екатерина Краснобаева\, Александр Соловьев\, Светлана Харлап\, Нина Антонова. \nРежиссёры: Сергей Яшин\, Александр Воропаев.  \n
URL:https://zmkc.ru/event/telespektakl-koshkin-dom/
LOCATION:Вокзальная 16\, Жигулевск
ATTACH;FMTTYPE=image/jpeg:https://zmkc.ru/wp-content/uploads/2020/10/596656.jpg
END:VEVENT
END:VCALENDAR