BEGIN:VCALENDAR
VERSION:2.0
PRODID:-//МБУК МКЦ - ECPv4.6.12//NONSGML v1.0//EN
CALSCALE:GREGORIAN
METHOD:PUBLISH
X-WR-CALNAME:МБУК МКЦ
X-ORIGINAL-URL:https://zmkc.ru
X-WR-CALDESC:Events for МБУК МКЦ
BEGIN:VEVENT
DTSTART;TZID=UTC+4:20221225T100000
DTEND;TZID=UTC+4:20221225T110000
DTSTAMP:20260423T100603
CREATED:20221129T133919Z
LAST-MODIFIED:20221129T133919Z
UID:7056-1671962400-1671966000@zmkc.ru
SUMMARY:Театрализованная программа "Счастливый Новый Год!"
DESCRIPTION:Для воспитанников ГЭР «Малышок» пройдет праздничная программа. \n
URL:https://zmkc.ru/event/teatralizovannaya-programma-schastlivyiy-novyiy-god/
LOCATION:Вокзальная 16\, Жигулевск
ATTACH;FMTTYPE=image/jpeg:https://zmkc.ru/wp-content/uploads/2022/11/Elka-dlya-malyishey.jpg
END:VEVENT
END:VCALENDAR