BEGIN:VCALENDAR
VERSION:2.0
PRODID:-//МБУК МКЦ - ECPv4.6.12//NONSGML v1.0//EN
CALSCALE:GREGORIAN
METHOD:PUBLISH
X-WR-CALNAME:МБУК МКЦ
X-ORIGINAL-URL:https://zmkc.ru
X-WR-CALDESC:Events for МБУК МКЦ
BEGIN:VEVENT
DTSTART;TZID=UTC+4:20220706T170000
DTEND;TZID=UTC+4:20220706T180000
DTSTAMP:20260422T185132
CREATED:20220608T062133Z
LAST-MODIFIED:20220608T062133Z
UID:6673-1657126800-1657130400@zmkc.ru
SUMMARY:Театрализованная игровая программа «Пиратское лето»
DESCRIPTION:
URL:https://zmkc.ru/event/teatralizovannaya-igrovaya-programma-piratskoe-leto/
LOCATION:ул.Майская\, д 1\, Жигулевск\, Самарская область\, Российская Федерация
END:VEVENT
END:VCALENDAR