BEGIN:VCALENDAR
VERSION:2.0
PRODID:-//МБУК МКЦ - ECPv4.6.12//NONSGML v1.0//EN
CALSCALE:GREGORIAN
METHOD:PUBLISH
X-WR-CALNAME:МБУК МКЦ
X-ORIGINAL-URL:https://zmkc.ru
X-WR-CALDESC:Events for МБУК МКЦ
BEGIN:VEVENT
DTSTART;TZID=UTC+4:20201101T130000
DTEND;TZID=UTC+4:20201101T170000
DTSTAMP:20260422T102856
CREATED:20201026T063939Z
LAST-MODIFIED:20201026T063939Z
UID:5252-1604235600-1604250000@zmkc.ru
SUMMARY:«Таланты и поклонники»
DESCRIPTION:Виртуальный концертный зал г.о.Жигулевск приглашает на постановку «Таланты и поклонники»  по одноименному произведению Александра Островского. \nГлавная героиня данного произведения – Александра Негина. Талантливая\, многообещающая и красивая молодая актриса\, чья главная страсть — это игра на сцене. У нее уже есть свои поклонники\, которые смогли оценить все ее достоинства. Она строит свою карьеру в одном из многих провинциальных театров\, бедна и должна заботиться о своей матери. У девушки также есть возлюбленный: честный\, благородный\, но такой же бедный\, как она\, студент Петр Мелузов. Они влюблены друг в друга и любят вместе мечтать о богатой жизни\, которой у них нет. \nРежиссер Наталия Фекленко поставила этот спектакль 18 лет назад\, и с тех пор он не покидает репертуар театра. Главные роли в постановке сыграли Олег Вавилов\, Сергей Беляев\, Юрий Васильев\, Сергей Колповский\, Алена Яковлева.  \n
URL:https://zmkc.ru/event/talantyi-i-poklonniki/
LOCATION:Вокзальная 16\, Жигулевск
ATTACH;FMTTYPE=image/jpeg:https://zmkc.ru/wp-content/uploads/2020/10/13d9dfbb258943a49a16b93b6a7b.jpg
END:VEVENT
END:VCALENDAR