BEGIN:VCALENDAR
VERSION:2.0
PRODID:-//МБУК МКЦ - ECPv4.6.12//NONSGML v1.0//EN
CALSCALE:GREGORIAN
METHOD:PUBLISH
X-WR-CALNAME:МБУК МКЦ
X-ORIGINAL-URL:https://zmkc.ru
X-WR-CALDESC:Events for МБУК МКЦ
BEGIN:VEVENT
DTSTART;TZID=UTC+4:20210306T160000
DTEND;TZID=UTC+4:20210306T170000
DTSTAMP:20260422T085403
CREATED:20210226T040034Z
LAST-MODIFIED:20210226T040034Z
UID:5713-1615046400-1615050000@zmkc.ru
SUMMARY:Спектакль «Закон Джунглей»
DESCRIPTION:Студия актерского мастерства и художественного слова «Воздушный шар» Культурно-досугового центра для детей и подростков приготовила сюрприз для всех любителей театрального жанра — спектакль по роману Р. Киплинга «Маугли».  \nРебята из этого театрального коллектива уже известны в Жигулевске\, несмотря на пока еще небольшую творческую жизнь\, они уже стали победителями Городского конкурса талантливых детей и молодежи в 2019 году\, а в 2020 году заняли I место в Фестивале активной молодежи «Прочь негатив\, здесь креатив на позитиве». \nВ новом спектакле «Воздушного шара» оживет всем известный сюжет о долге\, чести\, дружбе и верности. История Маугли заставит каждого задуматься о том\, по каким законам живет современный человек…  \nДля того\, чтобы гарантированно посетить премьеру спектакля\, нужно позвонить по тел. 8(84862)24903 (будние дни с 09.00 до 17.00) и записаться. Количество мест ограничено! \n \n
URL:https://zmkc.ru/event/spektakl-zakon-dzhungley/
LOCATION:Вокзальная 16\, Жигулевск
ATTACH;FMTTYPE=image/jpeg:https://zmkc.ru/wp-content/uploads/2021/02/2c1cwKLzbtM.jpg
END:VEVENT
END:VCALENDAR