BEGIN:VCALENDAR
VERSION:2.0
PRODID:-//МБУК МКЦ - ECPv4.6.12//NONSGML v1.0//EN
CALSCALE:GREGORIAN
METHOD:PUBLISH
X-WR-CALNAME:МБУК МКЦ
X-ORIGINAL-URL:https://zmkc.ru
X-WR-CALDESC:Events for МБУК МКЦ
BEGIN:VEVENT
DTSTART;TZID=UTC+4:20211217T150000
DTEND;TZID=UTC+4:20211217T160000
DTSTAMP:20260422T115935
CREATED:20211125T064353Z
LAST-MODIFIED:20211125T064353Z
UID:6328-1639753200-1639756800@zmkc.ru
SUMMARY:Снежная королева
DESCRIPTION:Полнометражный мульт режиссера Льва Атаманова «Снежная королева» ─ одна из многочисленных экранизаций известной сказки Г.Х.Андерсена\, которую можно посмотреть онлайн в нашем интернет-кинотеатре. Главная героиня этой сказки ─ девочка Герда и ее друг Кай живут в маленьком городке\, выращивают розы и мечтают никогда не разлучаться\, а вечерами бабушка Герды рассказывает им чудесные сказки. Однажды зимой\, под завывания метели\, дети слушали сказку о Снежной королеве\, красивой\, но бессердечной властительнице ледового царства\, и расшалившийся Кай высказался о ее величестве пренебрежительно\, а Снежная королева\, на беду\, пролетала в санях прямо под окнами их домика. Дохнула разгневанная волшебница на стекло ледяным порывом ветра\, разбилось окно и разом съежились от холода цветущие на подоконнике розы\, а Кай внезапно вскрикнул и сник ─ ледяные осколки попали ему в глаз и в сердце и превратили его из доброго и веселого мальчика в злого насмешника и забияку. А спустя еще немного времени Снежная королева вновь появилась на улицах городка ─ теперь уже чтобы навсегда забрать мальчика в свой дворец. А что же Герда\, которой новый Кай доставлял так много огорчений? Конечно\, она не забыла о клятве никогда не бросать друга в беде и отважно отправилась на его поиски… \n
URL:https://zmkc.ru/event/snezhnaya-koroleva-2/
LOCATION:Вокзальная 16\, Жигулевск
ATTACH;FMTTYPE=image/jpeg:https://zmkc.ru/wp-content/uploads/2021/11/scale_1200.jpg
END:VEVENT
END:VCALENDAR