BEGIN:VCALENDAR
VERSION:2.0
PRODID:-//МБУК МКЦ - ECPv4.6.12//NONSGML v1.0//EN
CALSCALE:GREGORIAN
METHOD:PUBLISH
X-WR-CALNAME:МБУК МКЦ
X-ORIGINAL-URL:https://zmkc.ru
X-WR-CALDESC:Events for МБУК МКЦ
BEGIN:VEVENT
DTSTART;TZID=UTC+4:20220315T100000
DTEND;TZID=UTC+4:20220315T120000
DTSTAMP:20260422T104854
CREATED:20220303T052830Z
LAST-MODIFIED:20220303T052840Z
UID:6475-1647338400-1647345600@zmkc.ru
SUMMARY:Скоро вишня расцветет!
DESCRIPTION:Культурно-досуговый центр для детей и подростков ежегодно в первый весенний месяц проводит Городской конкурс частушек\, посвященный Дню рождения Алексея Бещева\, который является создателем уникальной «бещевской» вишни\, спеющей в августе.  \nК участию приглашаются детские ансамбли и солисты в возрасте до 7 лет включительно. \nУчастники всех номинаций готовят произведения по любой из  тем: \n·        «Вишня в Жигулях» \n·        «Жигулевску- 70 лет»  (юбилей города) \n·        «Вишнёвое лакомство» \n·        «Вишнёвое настроение» \nПодробные условия участия в Положении по конкурсу \n
URL:https://zmkc.ru/event/skoro-vishnya-rastsvetet/
LOCATION:Вокзальная 16\, Жигулевск
ATTACH;FMTTYPE=image/jpeg:https://zmkc.ru/wp-content/uploads/2021/03/0Wta4AfyB1k.jpg
END:VEVENT
END:VCALENDAR