BEGIN:VCALENDAR
VERSION:2.0
PRODID:-//МБУК МКЦ - ECPv4.6.12//NONSGML v1.0//EN
CALSCALE:GREGORIAN
METHOD:PUBLISH
X-WR-CALNAME:МБУК МКЦ
X-ORIGINAL-URL:https://zmkc.ru
X-WR-CALDESC:Events for МБУК МКЦ
BEGIN:VEVENT
DTSTART;TZID=UTC+4:20201003T130000
DTEND;TZID=UTC+4:20201003T143000
DTSTAMP:20260422T201042
CREATED:20201003T014813Z
LAST-MODIFIED:20201003T014813Z
UID:5178-1601730000-1601735400@zmkc.ru
SUMMARY:Сказки с оркестром. Поллианна.
DESCRIPTION:Виртуальный концертный зал г.о. Жигулевск приглашает на очередную «сказку с оркестром». 3 октября для детей и родителей города прозвучит знаменитая «Поллианна» Элинор Портер в исполнении Виктории Толстогановой. \n
URL:https://zmkc.ru/event/skazki-s-orkestrom-pollianna/
LOCATION:Вокзальная 16\, Жигулевск
ATTACH;FMTTYPE=image/jpeg:https://zmkc.ru/wp-content/uploads/2020/10/img-661286-d41d8cd98f.jpg
END:VEVENT
END:VCALENDAR