BEGIN:VCALENDAR
VERSION:2.0
PRODID:-//МБУК МКЦ - ECPv4.6.12//NONSGML v1.0//EN
CALSCALE:GREGORIAN
METHOD:PUBLISH
X-WR-CALNAME:МБУК МКЦ
X-ORIGINAL-URL:https://zmkc.ru
X-WR-CALDESC:Events for МБУК МКЦ
BEGIN:VEVENT
DTSTART;VALUE=DATE:20190310
DTEND;VALUE=DATE:20190311
DTSTAMP:20260425T222208
CREATED:20190304T040108Z
LAST-MODIFIED:20190304T040108Z
UID:2382-1552176000-1552262399@zmkc.ru
SUMMARY:"Широкая Масленица!"
DESCRIPTION: \n
URL:https://zmkc.ru/event/shirokaya-maslenitsa/
END:VEVENT
END:VCALENDAR