BEGIN:VCALENDAR
VERSION:2.0
PRODID:-//МБУК МКЦ - ECPv4.6.12//NONSGML v1.0//EN
CALSCALE:GREGORIAN
METHOD:PUBLISH
X-WR-CALNAME:МБУК МКЦ
X-ORIGINAL-URL:https://zmkc.ru
X-WR-CALDESC:Events for МБУК МКЦ
BEGIN:VEVENT
DTSTART;TZID=UTC+4:20210519T170000
DTEND;TZID=UTC+4:20210519T210000
DTSTAMP:20260422T133524
CREATED:20210517T112556Z
LAST-MODIFIED:20210517T112556Z
UID:5958-1621443600-1621458000@zmkc.ru
SUMMARY:СЕМЕЙНЫЙ ФЕСТИВАЛЬ "ВЕСНА- ФЕST"
DESCRIPTION:
URL:https://zmkc.ru/event/semeynyiy-festival-vesna-fest/
ATTACH;FMTTYPE=image/jpeg:https://zmkc.ru/wp-content/uploads/2021/05/m9pjw0NCXz0.jpg
END:VEVENT
END:VCALENDAR