BEGIN:VCALENDAR
VERSION:2.0
PRODID:-//МБУК МКЦ - ECPv4.6.12//NONSGML v1.0//EN
CALSCALE:GREGORIAN
METHOD:PUBLISH
X-WR-CALNAME:МБУК МКЦ
X-ORIGINAL-URL:https://zmkc.ru
X-WR-CALDESC:Events for МБУК МКЦ
BEGIN:VEVENT
DTSTART;TZID=UTC+4:20240901T160000
DTEND;TZID=UTC+4:20240901T200000
DTSTAMP:20260422T151707
CREATED:20240831T062107Z
LAST-MODIFIED:20240831T062107Z
UID:8671-1725206400-1725220800@zmkc.ru
SUMMARY:СЕМЕЙНЫЙ ФЕСТИВАЛЬ "МЫ ВМЕСТЕ"
DESCRIPTION:
URL:https://zmkc.ru/event/semeynyiy-festival-myi-vmeste/
LOCATION:Фрунзе\, д.30\, Жигулевск\, Самарская область\, Российская Федерация
ATTACH;FMTTYPE=image/jpeg:https://zmkc.ru/wp-content/uploads/2024/08/Afisha-1-sentyabrya.jpg
END:VEVENT
END:VCALENDAR