BEGIN:VCALENDAR
VERSION:2.0
PRODID:-//МБУК МКЦ - ECPv4.6.12//NONSGML v1.0//EN
CALSCALE:GREGORIAN
METHOD:PUBLISH
X-WR-CALNAME:МБУК МКЦ
X-ORIGINAL-URL:https://zmkc.ru
X-WR-CALDESC:Events for МБУК МКЦ
BEGIN:VEVENT
DTSTART;TZID=UTC+4:20220222T140000
DTEND;TZID=UTC+4:20220222T150000
DTSTAMP:20260422T135300
CREATED:20220128T083042Z
LAST-MODIFIED:20220128T083042Z
UID:6421-1645538400-1645542000@zmkc.ru
SUMMARY:Рыцарский турнир
DESCRIPTION:В честь Дня защитника Отечества МБУК «МКЦ» традиционно проводит множество мероприятий разной направленности. Самыми любимыми у ребят являются театрализованные спортивно-игровые мероприятия. \nТворческий коллектив Многофункционального культурного центра приглашает учеников начальных классов принять участие в настоящем «Рыцарском турнире». \nВ турнире ребята смогут проявить ловкость\, смекалку и умение работать в команде.Ну\, а поддерживать мальчиков\, вдохновлять их на подвиги будет\, конечно\, прекрасная половина класса. \n
URL:https://zmkc.ru/event/ryitsarskiy-turnir-2/
LOCATION:Никитина 9\, Яблоневый Овраг\, Российская Федерация
ATTACH;FMTTYPE=image/jpeg:https://zmkc.ru/wp-content/uploads/2022/01/1-1.jpg
END:VEVENT
END:VCALENDAR