BEGIN:VCALENDAR
VERSION:2.0
PRODID:-//МБУК МКЦ - ECPv4.6.12//NONSGML v1.0//EN
CALSCALE:GREGORIAN
METHOD:PUBLISH
X-WR-CALNAME:МБУК МКЦ
X-ORIGINAL-URL:https://zmkc.ru
X-WR-CALDESC:Events for МБУК МКЦ
BEGIN:VEVENT
DTSTART;TZID=UTC+4:20220822T130000
DTEND;TZID=UTC+4:20220822T140000
DTSTAMP:20260422T183023
CREATED:20220815T081453Z
LAST-MODIFIED:20220815T081453Z
UID:6722-1661173200-1661176800@zmkc.ru
SUMMARY:Российский флаг – наш символ и богатство
DESCRIPTION:Приглашаем ребят мкрн. Александровское поле на интерактивную программу ко Дню Российского флага «Российский флаг – наш символ и богатство» \n
URL:https://zmkc.ru/event/rossiyskiy-flag-nash-simvol-i-bogatstvo/
LOCATION:Фрунзе\, д.30\, Жигулевск\, Самарская область\, Российская Федерация
END:VEVENT
END:VCALENDAR