BEGIN:VCALENDAR
VERSION:2.0
PRODID:-//МБУК МКЦ - ECPv4.6.12//NONSGML v1.0//EN
CALSCALE:GREGORIAN
METHOD:PUBLISH
X-WR-CALNAME:МБУК МКЦ
X-ORIGINAL-URL:https://zmkc.ru
X-WR-CALDESC:Events for МБУК МКЦ
BEGIN:VEVENT
DTSTART;TZID=UTC+4:20210327T160000
DTEND;TZID=UTC+4:20210327T170000
DTSTAMP:20260422T072537
CREATED:20210318T020225Z
LAST-MODIFIED:20210318T020225Z
UID:5795-1616860800-1616864400@zmkc.ru
SUMMARY:«Простые истории»
DESCRIPTION:Театральная команда Культурно-досугового центра для детей и подростков в лице Образцового театрального коллектива «АПельсин» приглашает на спектакль по мотивам произведений М.Зощенко. \nТворчество Михаила Зощенко — самобытное явление в русской советской литературе. Писатель по-своему увидел некоторые характерные процессы современной ему действительности\, вывел под слепящий свет сатиры галерею персонажей\, породивших нарицательное понятие «зощенковский герой». Находясь у истоков советской сатирико-юмористической прозы\, он выступил создателем оригинальной комической новеллы\, продолжившей в новых исторических условиях традиции Гоголя\, Лескова\, раннего Чехова. Наконец\, Зощенко создал свой\, совершенно неповторимый художественный стиль. \nВ исполнении актеров «АПельсина» перед зрителем предстанут герои таких рассказов\, как «Кочерга»\, «Фотокарточка»\, «Аристократка»\, «Про любовь» и др. \n \n
URL:https://zmkc.ru/event/prostyie-istorii-2/
LOCATION:Вокзальная 16\, Жигулевск
ATTACH;FMTTYPE=image/jpeg:https://zmkc.ru/wp-content/uploads/2021/03/gLNG1WW_-g4.jpg
END:VEVENT
END:VCALENDAR