BEGIN:VCALENDAR
VERSION:2.0
PRODID:-//МБУК МКЦ - ECPv4.6.12//NONSGML v1.0//EN
CALSCALE:GREGORIAN
METHOD:PUBLISH
X-WR-CALNAME:МБУК МКЦ
X-ORIGINAL-URL:https://zmkc.ru
X-WR-CALDESC:Events for МБУК МКЦ
BEGIN:VEVENT
DTSTART;TZID=UTC+4:20210114T130000
DTEND;TZID=UTC+4:20210114T140000
DTSTAMP:20260422T120715
CREATED:20201230T070517Z
LAST-MODIFIED:20201230T070517Z
UID:5607-1610629200-1610632800@zmkc.ru
SUMMARY:«Прощание с Ёлкой»
DESCRIPTION:Вот и позади шумные праздники и веселые каникулы. Дети и взрослые  уже успели снова окунуться в учебу и работу и настроились на зимние будни.Но как же сложно расстаться с волшебством и сказкой. Только красавица-елочка все еще сверкает  и напоминает о празднике. Но вот и с ней настала пора прощаться.  \nТворческий коллектив Многофункционального культурного центра каждый год ответственно и с выдумкой подходит к этому мероприятию.Чтобы ощущение праздника не заканчивалось\, а новогоднее настроение задержалось на целый год\, для воспитанников проводят развлекательную программу с участием сказочных персонажей. Волшебные герои помогают ребятам не грустить и настроиться на новое ожидание новогодней сказки. Ведь ёлочка обязательно вернётся в конце года!. \n
URL:https://zmkc.ru/event/proshhanie-s-yolkoy-2/
LOCATION:Никитина 9\, Яблоневый Овраг\, Российская Федерация
ATTACH;FMTTYPE=image/jpeg:https://zmkc.ru/wp-content/uploads/2020/12/DSC_0267.jpg
END:VEVENT
END:VCALENDAR