BEGIN:VCALENDAR
VERSION:2.0
PRODID:-//МБУК МКЦ - ECPv4.6.12//NONSGML v1.0//EN
CALSCALE:GREGORIAN
METHOD:PUBLISH
X-WR-CALNAME:МБУК МКЦ
X-ORIGINAL-URL:https://zmkc.ru
X-WR-CALDESC:Events for МБУК МКЦ
BEGIN:VEVENT
DTSTART;TZID=UTC+4:20210601T100000
DTEND;TZID=UTC+4:20210601T143000
DTSTAMP:20260422T144523
CREATED:20210527T031611Z
LAST-MODIFIED:20210527T031611Z
UID:5988-1622541600-1622557800@zmkc.ru
SUMMARY:Праздничная программа «День детства»
DESCRIPTION:Международный день защиты детей 1 июня празднуется во многих странах. А впервые официально он стал отмечаться в 1950 г. Само слово праздник ассоциируется с радостью\, весельем\, счастьем. И\, действительно\, для ребят мкрн.Яблоневый Овраг 1 июня в 2021 году станет незабываемым. Творческий коллектив МБУК «МКЦ» подготовил для них замечательную развлекательную программу. Дети поучаствуют в настоящем пиратском приключении «На абордаж»\, смогут проявить себя в творческом конкурсе рисунков на асфальте\, а также выиграть призы в спортивной эстафете «Веселые старты». \n
URL:https://zmkc.ru/event/prazdnichnaya-programma-den-detstva/
LOCATION:Никитина 9\, Яблоневый Овраг
ATTACH;FMTTYPE=image/jpeg:https://zmkc.ru/wp-content/uploads/2021/05/kvyQ_GY5_jo.jpg
END:VEVENT
END:VCALENDAR