BEGIN:VCALENDAR
VERSION:2.0
PRODID:-//МБУК МКЦ - ECPv4.6.12//NONSGML v1.0//EN
CALSCALE:GREGORIAN
METHOD:PUBLISH
X-WR-CALNAME:МБУК МКЦ
X-ORIGINAL-URL:https://zmkc.ru
X-WR-CALDESC:Events for МБУК МКЦ
BEGIN:VEVENT
DTSTART;TZID=UTC+4:20201125T173000
DTEND;TZID=UTC+4:20201125T183000
DTSTAMP:20260422T114847
CREATED:20201119T054850Z
LAST-MODIFIED:20201119T054851Z
UID:5410-1606325400-1606329000@zmkc.ru
SUMMARY:Поздравления для мам!
DESCRIPTION:25 ноября в Культурно-досуговом центре для детей и подростков пройдет праздничный концерт для мам воспитанников. \n
URL:https://zmkc.ru/event/pozdravleniya-dlya-mam/
LOCATION:Вокзальная 16\, Жигулевск
ATTACH;FMTTYPE=image/jpeg:https://zmkc.ru/wp-content/uploads/2019/11/DSC_0149.jpg
END:VEVENT
END:VCALENDAR