BEGIN:VCALENDAR
VERSION:2.0
PRODID:-//МБУК МКЦ - ECPv4.6.12//NONSGML v1.0//EN
CALSCALE:GREGORIAN
METHOD:PUBLISH
X-WR-CALNAME:МБУК МКЦ
X-ORIGINAL-URL:https://zmkc.ru
X-WR-CALDESC:Events for МБУК МКЦ
BEGIN:VEVENT
DTSTART;VALUE=DATE:20200115
DTEND;VALUE=DATE:20200116
DTSTAMP:20260422T184239
CREATED:20200114T102721Z
LAST-MODIFIED:20200114T102721Z
UID:4186-1579046400-1579132799@zmkc.ru
SUMMARY:Послание Федеральному собранию Президента РФ В.В. Путина
DESCRIPTION: \n
URL:https://zmkc.ru/event/poslanie-federalnomu-sobraniyu-prezidenta-rf-v-v-putina/
LOCATION:Вокзальная 16\, Жигулевск
END:VEVENT
END:VCALENDAR