BEGIN:VCALENDAR
VERSION:2.0
PRODID:-//МБУК МКЦ - ECPv4.6.12//NONSGML v1.0//EN
CALSCALE:GREGORIAN
METHOD:PUBLISH
X-WR-CALNAME:МБУК МКЦ
X-ORIGINAL-URL:https://zmkc.ru
X-WR-CALDESC:Events for МБУК МКЦ
BEGIN:VEVENT
DTSTART;VALUE=DATE:20200413
DTEND;VALUE=DATE:20200510
DTSTAMP:20260422T120547
CREATED:20200413T072251Z
LAST-MODIFIED:20200413T074153Z
UID:4612-1586736000-1589068799@zmkc.ru
SUMMARY:Поем о Победе
DESCRIPTION:Дорогие друзья! Приближается Великий праздник Победы — 9 Мая. В преддверии этого события\, в период с 13 апреля по 9 мая\, МБУК «МКЦ» запускает челлендж «Песни\, с которыми мы победили».\nВ Великую Отечественную было страшно. Но народ тогда пел\, это помогло ему выстоять и победить! Песни военных лет — это песни о Родине\, о встрече и разлуке\, а самое главное — о надежде. Надежде на то\, что все будет хорошо!\nСейчас\, в наше трудное время\, нам это необходимо\, как никогда! Участникам нужно снять видео с песней (можно только куплет или только припев) и выложить в комментариях под  постом на странице Вконтакте:https://vk.com/idyubileyniydk?w=wall190740566_795  с хештегом #мбук_мкц \n
URL:https://zmkc.ru/event/poem-o-pobede/
LOCATION:Никитина 9\, Яблоневый Овраг\, Российская Федерация
END:VEVENT
END:VCALENDAR