BEGIN:VCALENDAR
VERSION:2.0
PRODID:-//МБУК МКЦ - ECPv4.6.12//NONSGML v1.0//EN
CALSCALE:GREGORIAN
METHOD:PUBLISH
X-WR-CALNAME:МБУК МКЦ
X-ORIGINAL-URL:https://zmkc.ru
X-WR-CALDESC:Events for МБУК МКЦ
BEGIN:VEVENT
DTSTART;VALUE=DATE:20240724
DTEND;VALUE=DATE:20240901
DTSTAMP:20260422T151636
CREATED:20240724T122650Z
LAST-MODIFIED:20240724T122650Z
UID:8626-1721779200-1725148799@zmkc.ru
SUMMARY:Подготовка к школе
DESCRIPTION:Группа раннего эстетического развития «МАЛЫШОК» объявляет набор на творческий сезон 2024-2025гг. \nЗамечательная возможность детям в возрасте от 5 до 7 лет получить своевременную социальную адаптацию в общении с другими детьми и взрослыми\, и получить начальное раннее комплексное развитие\, подготовившись к школе. \nПрограмма обучения включает в себя занятия по чтению\, развитию речи\, математике\, рисованию\, лепке\, пению и др. Занятия проходят три раза в неделю (вторник\, четверг\, суббота) по 1\,5 часа. \nОсновные предметы ведёт молодой\, энергичный педагог\, учитель начальных классов Кузуб Олеся Алексеевна. \nЗаписаться можно по адресу ул. Вокзальная\,16 КДЦ\, фойе 1-го этажа или в личных сообщениях \nОрганизационное собрание для родителей состоится 23.08.2023 в 18.00 (КДЦ).\nВсе вопросы можно задать по тел. 8(84862)2-49-03\nP.S. Занятия начинаются 3 сентября. \n
URL:https://zmkc.ru/event/podgotovka-k-shkole/
LOCATION:Вокзальная 16\, Жигулевск
ATTACH;FMTTYPE=image/jpeg:https://zmkc.ru/wp-content/uploads/2024/07/Nabor-v-Malyishok.jpg
END:VEVENT
END:VCALENDAR