BEGIN:VCALENDAR
VERSION:2.0
PRODID:-//МБУК МКЦ - ECPv4.6.12//NONSGML v1.0//EN
CALSCALE:GREGORIAN
METHOD:PUBLISH
X-WR-CALNAME:МБУК МКЦ
X-ORIGINAL-URL:https://zmkc.ru
X-WR-CALDESC:Events for МБУК МКЦ
BEGIN:VEVENT
DTSTART;TZID=UTC+4:20250917T080000
DTEND;TZID=UTC+4:20250919T170000
DTSTAMP:20260419T191406
CREATED:20250915T123536Z
LAST-MODIFIED:20250915T123536Z
UID:9303-1758096000-1758301200@zmkc.ru
SUMMARY:Пластилиновые фантазии
DESCRIPTION:Вот и первый творческий конкурс Культурно-досугового центра в новом сезоне!\nУ всех закуплен пластилин к к началу учебного года?!\nТогда этот конкурс для вас! Принять участие сможет каждый желающий\, без ограничения по возрасту.\nТемы конкурса:\n1. «Год Защитника Отечества»\n2. «Волшебный лес и его обитатели»\n3. «Школьная пора»\n4. «Время года: «Осень» \nПодробности читайте в Положении \nПластилиновые фантазии_2025 Положение конкурса \n
URL:https://zmkc.ru/event/plastilinovyie-fantazii-3/
LOCATION:Вокзальная 16\, Жигулевск
ATTACH;FMTTYPE=image/jpeg:https://zmkc.ru/wp-content/uploads/2025/09/afisha-plastilinovyie-fantazii-2.jpg
END:VEVENT
END:VCALENDAR