BEGIN:VCALENDAR
VERSION:2.0
PRODID:-//МБУК МКЦ - ECPv4.6.12//NONSGML v1.0//EN
CALSCALE:GREGORIAN
METHOD:PUBLISH
X-WR-CALNAME:МБУК МКЦ
X-ORIGINAL-URL:https://zmkc.ru
X-WR-CALDESC:Events for МБУК МКЦ
BEGIN:VEVENT
DTSTART;TZID=UTC+4:20210708T180000
DTEND;TZID=UTC+4:20210708T183000
DTSTAMP:20260422T104505
CREATED:20210707T014139Z
LAST-MODIFIED:20210707T015445Z
UID:6063-1625767200-1625769000@zmkc.ru
SUMMARY:Парад колясок
DESCRIPTION:Положение по Параду колясок здесь \n
URL:https://zmkc.ru/event/parad-kolyasok/
LOCATION:Никитина 9\, Яблоневый Овраг
ATTACH;FMTTYPE=image/jpeg:https://zmkc.ru/wp-content/uploads/2021/07/L6hdF6tYQjM.jpg
END:VEVENT
END:VCALENDAR