BEGIN:VCALENDAR
VERSION:2.0
PRODID:-//МБУК МКЦ - ECPv4.6.12//NONSGML v1.0//EN
CALSCALE:GREGORIAN
METHOD:PUBLISH
X-WR-CALNAME:МБУК МКЦ
X-ORIGINAL-URL:https://zmkc.ru
X-WR-CALDESC:Events for МБУК МКЦ
BEGIN:VEVENT
DTSTART;TZID=UTC+4:20201120T160000
DTEND;TZID=UTC+4:20201120T190000
DTSTAMP:20260422T105228
CREATED:20201026T055135Z
LAST-MODIFIED:20201026T055135Z
UID:5246-1605888000-1605898800@zmkc.ru
SUMMARY:Открытый городской фестиваль национальных культур "Венок дружбы"
DESCRIPTION:Свою историю  фестиваль национальных культур «Венок Дружбы» начинает с 2000г. Проводился он  коллективом  МБУК   ДК «Юбилейный»  на базе ГБОУ СОШ №6  мкр. Яблоневый Овраг .  Изначально  фестиваль носил статус «школьного» \, т.к. основными  его участниками были ученики школы. Но с  каждым годом растет число желающих принять участие в «Венке Дружбы». Поэтому\, в течение последних  12 лет\, фестиваль «Венок Дружбы» меняет свой формат\, статус  и место проведения   — становится  более доступным и открытым для гостей  и жителей городского округа Жигулевск. \nУчастники Фестиваля: национальные самодеятельные и фольклорные коллективы\, воспитанники детских садов\, учащиеся общеобразовательных школ\, студенты\, гости города. Все желающие приглашаются посмотреть тематические экспозиции и выставки народно- прикладного творчества\, поиграть в национальные игры\, поучаствовать в конкурсе «Коса- девичья   краса»\,примерить национальный костюм\, попробовать национальные блюда\, услышать живые звуки национальных инструментов\, закружиться в Общем Хороводе и окунуться в неповторимую атмосферу творчества. \nДля участия в Фестивале необходимо прислать заявку до 17 ноября 2020 года по установленной форме на электронную почту mbuk-mkc@mail.ru с пометкой «Венок дружбы -2020». К заявке от каждого участника необходимо приложить согласие на обработку персональных данных. Подробная информация по телефону 8(84862)32903.  \n
URL:https://zmkc.ru/event/otkryityiy-gorodskoy-festival-natsionalnyih-kultur-venok-druzhbyi/
LOCATION:Никитина 9\, Яблоневый Овраг\, Российская Федерация
ATTACH;FMTTYPE=image/jpeg:https://zmkc.ru/wp-content/uploads/2020/10/1e2ed895f298c2733d61ab4cf3aa5e73.jpeg
END:VEVENT
END:VCALENDAR