BEGIN:VCALENDAR
VERSION:2.0
PRODID:-//МБУК МКЦ - ECPv4.6.12//NONSGML v1.0//EN
CALSCALE:GREGORIAN
METHOD:PUBLISH
X-WR-CALNAME:МБУК МКЦ
X-ORIGINAL-URL:https://zmkc.ru
X-WR-CALDESC:Events for МБУК МКЦ
BEGIN:VEVENT
DTSTART;TZID=UTC+4:20210530T170000
DTEND;TZID=UTC+4:20210530T190000
DTSTAMP:20260422T115245
CREATED:20210526T061104Z
LAST-MODIFIED:20210526T061104Z
UID:5972-1622394000-1622401200@zmkc.ru
SUMMARY:Отчетный концерт образцового хореографического ансамбля "Элегия"
DESCRIPTION:   \n
URL:https://zmkc.ru/event/otchetnyiy-kontsert-obraztsovogo-horeograficheskogo-ansamblya-elegiya/
LOCATION:Никитина 9\, Яблоневый Овраг\, Российская Федерация
ATTACH;FMTTYPE=image/jpeg:https://zmkc.ru/wp-content/uploads/2021/05/ztVwyGOIjYk.jpg
END:VEVENT
END:VCALENDAR