BEGIN:VCALENDAR
VERSION:2.0
PRODID:-//МБУК МКЦ - ECPv4.6.12//NONSGML v1.0//EN
CALSCALE:GREGORIAN
METHOD:PUBLISH
X-WR-CALNAME:МБУК МКЦ
X-ORIGINAL-URL:https://zmkc.ru
X-WR-CALDESC:Events for МБУК МКЦ
BEGIN:VEVENT
DTSTART;TZID=UTC+4:20220604T170000
DTEND;TZID=UTC+4:20220604T183000
DTSTAMP:20260422T120052
CREATED:20220524T104030Z
LAST-MODIFIED:20220524T104030Z
UID:6643-1654362000-1654367400@zmkc.ru
SUMMARY:Отчетный концерт образцового хореографического ансамбля "Элегия"
DESCRIPTION:Ансамбль «Элегия» знаком каждому жителю Жигулевска. 4 июня он представит свои лучшие танцы на сцене МБУК «МКЦ» мкрн.Яблоневый Овраг. \n
URL:https://zmkc.ru/event/otchetnyiy-kontsert-obraztsovogo-horeograficheskogo-ansamblya-elegiya-2/
LOCATION:Никитина 9\, Яблоневый Овраг\, Российская Федерация
ATTACH;FMTTYPE=image/jpeg:https://zmkc.ru/wp-content/uploads/2022/05/z744FsUf_F-cnxzL_jq6ObtNO-pk4Kd-UoWXxZJZdHWBK85LNCHlrBtYYFUjYBxZcTzblsvIQUpOecv-ShBHlkhN.jpg
END:VEVENT
END:VCALENDAR